BEGIN:VCALENDAR
VERSION:2.0
PRODID:-//Evangelische Kirchengemeinde Ewersbach - ECPv5.16.0//NONSGML v1.0//EN
CALSCALE:GREGORIAN
METHOD:PUBLISH
X-WR-CALNAME:Evangelische Kirchengemeinde Ewersbach
X-ORIGINAL-URL:http://ev-kirche-ewersbach.de
X-WR-CALDESC:Veranstaltungen für Evangelische Kirchengemeinde Ewersbach
BEGIN:VTIMEZONE
TZID:Europe/Berlin
BEGIN:DAYLIGHT
TZOFFSETFROM:+0100
TZOFFSETTO:+0200
TZNAME:CEST
DTSTART:20250330T010000
END:DAYLIGHT
BEGIN:STANDARD
TZOFFSETFROM:+0200
TZOFFSETTO:+0100
TZNAME:CET
DTSTART:20251026T010000
END:STANDARD
END:VTIMEZONE
BEGIN:VEVENT
DTSTART;TZID=Europe/Berlin:20250901T090000
DTEND;TZID=Europe/Berlin:20250906T200000
DTSTAMP:20260423T111010
CREATED:20230808T112519Z
LAST-MODIFIED:20250805T085906Z
UID:4319-1756717200-1757188800@ev-kirche-ewersbach.de
SUMMARY:Kleidersammlung
DESCRIPTION:Kleidersammlung
URL:http://ev-kirche-ewersbach.de/veranstaltung/kleidersammlung-2
END:VEVENT
END:VCALENDAR